Package: smoppix Version: 1.1.10 Command: /Library/Frameworks/R.framework/Resources/bin/R CMD check --install=check:smoppix.install-out.txt --library=/Library/Frameworks/R.framework/Resources/library --no-vignettes --timings smoppix_1.1.10.tar.gz StartedAt: 2025-10-24 00:18:23 -0400 (Fri, 24 Oct 2025) EndedAt: 2025-10-24 00:25:53 -0400 (Fri, 24 Oct 2025) EllapsedTime: 450.5 seconds RetCode: 0 Status: OK CheckDir: smoppix.Rcheck Warnings: 0