Package: smoppix Version: 1.1.10 Command: /Library/Frameworks/R.framework/Resources/bin/R CMD build --keep-empty-dirs --no-resave-data smoppix StartedAt: 2025-10-23 18:45:23 -0400 (Thu, 23 Oct 2025) EndedAt: 2025-10-23 18:50:07 -0400 (Thu, 23 Oct 2025) EllapsedTime: 284.1 seconds RetCode: 0 Status: OK PackageFile: smoppix_1.1.10.tar.gz PackageFileSize: 5.499 MiB