Package: smoppix Version: 1.1.10 Command: rm -rf smoppix.buildbin-libdir && mkdir smoppix.buildbin-libdir && /Users/biocbuild/BBS/utils/build-universal.sh smoppix_1.1.10.tar.gz /Library/Frameworks/R.framework/Resources/bin/R smoppix.buildbin-libdir StartedAt: 2025-10-24 01:59:17 -0400 (Fri, 24 Oct 2025) EndedAt: 2025-10-24 02:00:15 -0400 (Fri, 24 Oct 2025) EllapsedTime: 57.4 seconds RetCode: 0 Status: OK PackageFile: smoppix_1.1.10.tgz PackageFileSize: 5.689 MiB