Package: smoothclust Version: 1.5.1 Command: F:\biocbuild\bbs-3.22-bioc\R\bin\R.exe CMD check --no-multiarch --install=check:smoothclust.install-out.txt --library=F:\biocbuild\bbs-3.22-bioc\R\library --no-vignettes --timings smoothclust_1.5.1.tar.gz StartedAt: 2025-08-15 08:02:47 -0400 (Fri, 15 Aug 2025) EndedAt: 2025-08-15 08:13:39 -0400 (Fri, 15 Aug 2025) EllapsedTime: 651.6 seconds RetCode: 0 Status: OK CheckDir: smoothclust.Rcheck Warnings: 0