Package: smoothclust Version: 1.5.7 Command: /home/biocbuild/bbs-3.22-bioc/R/bin/R CMD INSTALL smoothclust StartedAt: 2025-10-19 15:25:54 -0400 (Sun, 19 Oct 2025) EndedAt: 2025-10-19 15:26:16 -0400 (Sun, 19 Oct 2025) EllapsedTime: 21.8 seconds RetCode: 0 Status: OK