Package: smoothclust Version: 1.5.7 Command: /Library/Frameworks/R.framework/Resources/bin/R CMD check --install=check:smoothclust.install-out.txt --library=/Library/Frameworks/R.framework/Resources/library --no-vignettes --timings smoothclust_1.5.7.tar.gz StartedAt: 2025-10-20 01:49:00 -0400 (Mon, 20 Oct 2025) EndedAt: 2025-10-20 01:53:51 -0400 (Mon, 20 Oct 2025) EllapsedTime: 290.5 seconds RetCode: 0 Status: OK CheckDir: smoothclust.Rcheck Warnings: 0