Package: smoothclust Version: 1.5.7 Command: rm -rf smoothclust.buildbin-libdir && mkdir smoothclust.buildbin-libdir && /Users/biocbuild/BBS/utils/build-universal.sh smoothclust_1.5.7.tar.gz /Library/Frameworks/R.framework/Resources/bin/R smoothclust.buildbin-libdir StartedAt: 2025-10-20 03:34:57 -0400 (Mon, 20 Oct 2025) EndedAt: 2025-10-20 03:35:31 -0400 (Mon, 20 Oct 2025) EllapsedTime: 34.8 seconds RetCode: 0 Status: OK PackageFile: smoothclust_1.5.7.tgz PackageFileSize: 865.7 KiB