Package: slingshot Version: 2.17.0 Command: F:\biocbuild\bbs-3.22-bioc\R\bin\R.exe CMD check --no-multiarch --install=check:slingshot.install-out.txt --library=F:\biocbuild\bbs-3.22-bioc\R\library --no-vignettes --timings slingshot_2.17.0.tar.gz StartedAt: 2025-08-15 08:02:27 -0400 (Fri, 15 Aug 2025) EndedAt: 2025-08-15 08:02:32 -0400 (Fri, 15 Aug 2025) EllapsedTime: 5.5 seconds RetCode: 1 Status: ERROR CheckDir: slingshot.Rcheck Warnings: NA