Package: slingshot Version: 2.17.0 Command: rm -rf slingshot.buildbin-libdir && mkdir slingshot.buildbin-libdir && F:\biocbuild\bbs-3.22-bioc\R\bin\R.exe CMD INSTALL --build --library=slingshot.buildbin-libdir slingshot_2.17.0.tar.gz StartedAt: 2025-08-15 11:21:23 -0400 (Fri, 15 Aug 2025) EndedAt: 2025-08-15 11:22:18 -0400 (Fri, 15 Aug 2025) EllapsedTime: 54.3 seconds RetCode: 0 Status: OK PackageFile: slingshot_2.17.0.zip PackageFileSize: 1.572 MiB