Package: slingshot Version: 2.18.0 Command: /Library/Frameworks/R.framework/Resources/bin/R CMD INSTALL slingshot StartedAt: 2025-11-03 15:32:08 -0500 (Mon, 03 Nov 2025) EndedAt: 2025-11-03 15:32:43 -0500 (Mon, 03 Nov 2025) EllapsedTime: 35.6 seconds RetCode: 0 Status: OK