Package: slingshot Version: 2.18.0 Command: /Library/Frameworks/R.framework/Resources/bin/R CMD check --install=check:slingshot.install-out.txt --library=/Library/Frameworks/R.framework/Resources/library --no-vignettes --timings slingshot_2.18.0.tar.gz StartedAt: 2025-11-04 00:23:12 -0500 (Tue, 04 Nov 2025) EndedAt: 2025-11-04 00:27:17 -0500 (Tue, 04 Nov 2025) EllapsedTime: 245.3 seconds RetCode: 0 Status: OK CheckDir: slingshot.Rcheck Warnings: 0