Package: slalom Version: 1.31.0 Command: F:\biocbuild\bbs-3.22-bioc\R\bin\R.exe CMD check --no-multiarch --install=check:slalom.install-out.txt --library=F:\biocbuild\bbs-3.22-bioc\R\library --no-vignettes --timings slalom_1.31.0.tar.gz StartedAt: 2025-08-15 08:02:02 -0400 (Fri, 15 Aug 2025) EndedAt: 2025-08-15 08:08:17 -0400 (Fri, 15 Aug 2025) EllapsedTime: 374.9 seconds RetCode: 0 Status: WARNINGS CheckDir: slalom.Rcheck Warnings: 1