Package: slalom Version: 1.31.1 Command: /home/biocbuild/bbs-3.22-bioc/R/bin/R CMD INSTALL slalom StartedAt: 2025-10-27 15:32:54 -0400 (Mon, 27 Oct 2025) EndedAt: 2025-10-27 15:33:50 -0400 (Mon, 27 Oct 2025) EllapsedTime: 56.1 seconds RetCode: 0 Status: OK