Package: slalom Version: 1.31.1 Command: /home/biocbuild/bbs-3.22-bioc/R/bin/R CMD check --install=check:slalom.install-out.txt --library=/home/biocbuild/bbs-3.22-bioc/R/site-library --timings slalom_1.31.1.tar.gz StartedAt: 2025-10-28 04:16:12 -0400 (Tue, 28 Oct 2025) EndedAt: 2025-10-28 04:21:41 -0400 (Tue, 28 Oct 2025) EllapsedTime: 328.3 seconds RetCode: 0 Status: WARNINGS CheckDir: slalom.Rcheck Warnings: 1