Package: slalom Version: 1.32.0 Command: /Library/Frameworks/R.framework/Resources/bin/R CMD INSTALL slalom StartedAt: 2025-10-30 15:24:06 -0400 (Thu, 30 Oct 2025) EndedAt: 2025-10-30 15:24:18 -0400 (Thu, 30 Oct 2025) EllapsedTime: 12.0 seconds RetCode: 1 Status: ERROR