Package: slalom Version: 1.32.0 Command: /Library/Frameworks/R.framework/Resources/bin/R CMD build --keep-empty-dirs --no-resave-data slalom StartedAt: 2025-10-30 18:42:27 -0400 (Thu, 30 Oct 2025) EndedAt: 2025-10-30 18:42:38 -0400 (Thu, 30 Oct 2025) EllapsedTime: 11.4 seconds RetCode: 1 Status: ERROR PackageFile: None PackageFileSize: NA