Package: skewr Version: 1.41.0 Command: F:\biocbuild\bbs-3.22-bioc\R\bin\R.exe CMD check --no-multiarch --install=check:skewr.install-out.txt --library=F:\biocbuild\bbs-3.22-bioc\R\library --no-vignettes --timings skewr_1.41.0.tar.gz StartedAt: 2025-08-15 08:01:58 -0400 (Fri, 15 Aug 2025) EndedAt: 2025-08-15 08:08:37 -0400 (Fri, 15 Aug 2025) EllapsedTime: 399.5 seconds RetCode: 0 Status: OK CheckDir: skewr.Rcheck Warnings: 0