Package: sketchR Version: 1.5.2 Command: /home/biocbuild/R/R/bin/R CMD INSTALL sketchR StartedAt: 2025-10-16 21:28:23 -0000 (Thu, 16 Oct 2025) EndedAt: 2025-10-16 21:28:43 -0000 (Thu, 16 Oct 2025) EllapsedTime: 20.7 seconds RetCode: 0 Status: OK