Package: sketchR Version: 1.5.2 Command: F:\biocbuild\bbs-3.22-bioc\R\bin\R.exe CMD check --no-multiarch --install=check:sketchR.install-out.txt --library=F:\biocbuild\bbs-3.22-bioc\R\library --no-vignettes --timings sketchR_1.5.2.tar.gz StartedAt: 2025-08-15 08:01:35 -0400 (Fri, 15 Aug 2025) EndedAt: 2025-08-15 08:05:29 -0400 (Fri, 15 Aug 2025) EllapsedTime: 234.4 seconds RetCode: 0 Status: OK CheckDir: sketchR.Rcheck Warnings: 0