Package: sketchR Version: 1.5.2 Command: /home/biocbuild/bbs-3.22-bioc/R/bin/R CMD build --keep-empty-dirs --no-resave-data --md5 sketchR StartedAt: 2025-10-20 20:05:00 -0400 (Mon, 20 Oct 2025) EndedAt: 2025-10-20 20:08:23 -0400 (Mon, 20 Oct 2025) EllapsedTime: 203.2 seconds RetCode: 0 Status: OK PackageFile: sketchR_1.5.2.tar.gz PackageFileSize: 2.293 MiB