Package: sketchR Version: 1.5.2 Command: /Library/Frameworks/R.framework/Resources/bin/R CMD INSTALL sketchR StartedAt: 2025-10-19 15:19:44 -0400 (Sun, 19 Oct 2025) EndedAt: 2025-10-19 15:20:14 -0400 (Sun, 19 Oct 2025) EllapsedTime: 30.2 seconds RetCode: 0 Status: OK