Package: sketchR Version: 1.5.2 Command: /Library/Frameworks/R.framework/Resources/bin/R CMD build --keep-empty-dirs --no-resave-data sketchR StartedAt: 2025-10-19 19:32:10 -0400 (Sun, 19 Oct 2025) EndedAt: 2025-10-19 19:37:46 -0400 (Sun, 19 Oct 2025) EllapsedTime: 336.6 seconds RetCode: 0 Status: OK PackageFile: sketchR_1.5.2.tar.gz PackageFileSize: 2.756 MiB