Package: sketchR Version: 1.5.2 Command: /Library/Frameworks/R.framework/Resources/bin/R CMD INSTALL sketchR StartedAt: 2025-10-20 15:08:09 -0400 (Mon, 20 Oct 2025) EndedAt: 2025-10-20 15:08:15 -0400 (Mon, 20 Oct 2025) EllapsedTime: 6.1 seconds RetCode: 0 Status: OK