Package: sketchR Version: 1.5.2 Command: /Library/Frameworks/R.framework/Resources/bin/R CMD check --install=check:sketchR.install-out.txt --library=/Library/Frameworks/R.framework/Resources/library --no-vignettes --timings sketchR_1.5.2.tar.gz StartedAt: 2025-10-20 22:07:38 -0400 (Mon, 20 Oct 2025) EndedAt: 2025-10-20 22:08:41 -0400 (Mon, 20 Oct 2025) EllapsedTime: 62.7 seconds RetCode: 0 Status: OK CheckDir: sketchR.Rcheck Warnings: 0