Package: sketchR Version: 1.5.2 Command: rm -rf sketchR.buildbin-libdir && mkdir sketchR.buildbin-libdir && /Users/biocbuild/BBS/utils/build-universal.sh sketchR_1.5.2.tar.gz /Library/Frameworks/R.framework/Resources/bin/R sketchR.buildbin-libdir StartedAt: 2025-10-20 23:17:48 -0400 (Mon, 20 Oct 2025) EndedAt: 2025-10-20 23:17:57 -0400 (Mon, 20 Oct 2025) EllapsedTime: 8.1 seconds RetCode: 0 Status: OK PackageFile: sketchR_1.5.2.tgz PackageFileSize: 2.797 MiB