Package: sitePath Version: 1.25.0 Command: F:\biocbuild\bbs-3.22-bioc\R\bin\R.exe CMD check --no-multiarch --install=check:sitePath.install-out.txt --library=F:\biocbuild\bbs-3.22-bioc\R\library --no-vignettes --timings sitePath_1.25.0.tar.gz StartedAt: 2025-08-15 08:00:51 -0400 (Fri, 15 Aug 2025) EndedAt: 2025-08-15 08:12:38 -0400 (Fri, 15 Aug 2025) EllapsedTime: 706.9 seconds RetCode: 0 Status: OK CheckDir: sitePath.Rcheck Warnings: 0