Package: sitadela Version: 1.17.1 Command: F:\biocbuild\bbs-3.22-bioc\R\bin\R.exe CMD check --no-multiarch --install=check:sitadela.install-out.txt --library=F:\biocbuild\bbs-3.22-bioc\R\library --no-vignettes --timings sitadela_1.17.1.tar.gz StartedAt: 2025-08-15 07:59:52 -0400 (Fri, 15 Aug 2025) EndedAt: 2025-08-15 08:06:29 -0400 (Fri, 15 Aug 2025) EllapsedTime: 396.4 seconds RetCode: 0 Status: OK CheckDir: sitadela.Rcheck Warnings: 0