Package: sitadela Version: 1.17.1 Command: /home/biocbuild/bbs-3.22-bioc/R/bin/R CMD INSTALL sitadela StartedAt: 2025-10-01 15:59:01 -0400 (Wed, 01 Oct 2025) EndedAt: 2025-10-01 16:00:01 -0400 (Wed, 01 Oct 2025) EllapsedTime: 60.2 seconds RetCode: 0 Status: OK