Package: sitadela Version: 1.17.1 Command: /home/biocbuild/bbs-3.22-bioc/R/bin/R CMD check --install=check:sitadela.install-out.txt --library=/home/biocbuild/bbs-3.22-bioc/R/site-library --timings sitadela_1.17.1.tar.gz StartedAt: 2025-10-03 04:23:04 -0400 (Fri, 03 Oct 2025) EndedAt: 2025-10-03 04:30:39 -0400 (Fri, 03 Oct 2025) EllapsedTime: 455.5 seconds RetCode: 0 Status: OK CheckDir: sitadela.Rcheck Warnings: 0