Package: singscore Version: 1.30.0 Command: /home/biocbuild/bbs-3.22-bioc/R/bin/R CMD INSTALL singscore StartedAt: 2025-11-17 17:24:32 -0500 (Mon, 17 Nov 2025) EndedAt: 2025-11-17 17:25:05 -0500 (Mon, 17 Nov 2025) EllapsedTime: 33.3 seconds RetCode: 0 Status: OK