Package: singleCellTK Version: 2.19.2 Command: /home/biocbuild/R/R/bin/R CMD build --keep-empty-dirs --no-resave-data singleCellTK StartedAt: 2025-10-21 03:13:40 -0000 (Tue, 21 Oct 2025) EndedAt: 2025-10-21 03:14:47 -0000 (Tue, 21 Oct 2025) EllapsedTime: 67.0 seconds RetCode: 0 Status: OK PackageFile: singleCellTK_2.19.2.tar.gz PackageFileSize: 3.257 MiB