Package: singleCellTK Version: 2.19.2 Command: /home/biocbuild/bbs-3.22-bioc/R/bin/R CMD INSTALL singleCellTK StartedAt: 2025-10-20 15:56:19 -0400 (Mon, 20 Oct 2025) EndedAt: 2025-10-20 15:57:01 -0400 (Mon, 20 Oct 2025) EllapsedTime: 42.3 seconds RetCode: 0 Status: OK