Package: singleCellTK Version: 2.19.2 Command: /home/biocbuild/bbs-3.22-bioc/R/bin/R CMD check --install=check:singleCellTK.install-out.txt --library=/home/biocbuild/bbs-3.22-bioc/R/site-library --timings singleCellTK_2.19.2.tar.gz StartedAt: 2025-10-21 04:48:18 -0400 (Tue, 21 Oct 2025) EndedAt: 2025-10-21 05:05:00 -0400 (Tue, 21 Oct 2025) EllapsedTime: 1001.8 seconds RetCode: 0 Status: OK CheckDir: singleCellTK.Rcheck Warnings: 0