Package: singleCellTK Version: 2.19.2 Command: /Library/Frameworks/R.framework/Resources/bin/R CMD INSTALL singleCellTK StartedAt: 2025-10-21 15:53:26 -0400 (Tue, 21 Oct 2025) EndedAt: 2025-10-21 15:54:27 -0400 (Tue, 21 Oct 2025) EllapsedTime: 61.6 seconds RetCode: 0 Status: OK