Package: singleCellTK Version: 2.19.2 Command: rm -rf singleCellTK.buildbin-libdir && mkdir singleCellTK.buildbin-libdir && /Users/biocbuild/BBS/utils/build-universal.sh singleCellTK_2.19.2.tar.gz /Library/Frameworks/R.framework/Resources/bin/R singleCellTK.buildbin-libdir StartedAt: 2025-10-22 02:49:36 -0400 (Wed, 22 Oct 2025) EndedAt: 2025-10-22 02:50:43 -0400 (Wed, 22 Oct 2025) EllapsedTime: 66.8 seconds RetCode: 0 Status: OK PackageFile: singleCellTK_2.19.2.tgz PackageFileSize: 4.601 MiB