Package: singleCellTK Version: 2.19.2 Command: /Library/Frameworks/R.framework/Resources/bin/R CMD check --install=check:singleCellTK.install-out.txt --library=/Library/Frameworks/R.framework/Resources/library --no-vignettes --timings singleCellTK_2.19.2.tar.gz StartedAt: 2025-10-20 22:06:28 -0400 (Mon, 20 Oct 2025) EndedAt: 2025-10-20 22:13:11 -0400 (Mon, 20 Oct 2025) EllapsedTime: 402.5 seconds RetCode: 0 Status: OK CheckDir: singleCellTK.Rcheck Warnings: 0