Package: singleCellTK Version: 2.19.2 Command: rm -rf singleCellTK.buildbin-libdir && mkdir singleCellTK.buildbin-libdir && /Users/biocbuild/BBS/utils/build-universal.sh singleCellTK_2.19.2.tar.gz /Library/Frameworks/R.framework/Resources/bin/R singleCellTK.buildbin-libdir StartedAt: 2025-10-20 23:17:37 -0400 (Mon, 20 Oct 2025) EndedAt: 2025-10-20 23:17:57 -0400 (Mon, 20 Oct 2025) EllapsedTime: 19.3 seconds RetCode: 0 Status: OK PackageFile: singleCellTK_2.19.2.tgz PackageFileSize: 4.61 MiB