Package: sincell Version: 1.42.0 Command: /home/biocbuild/bbs-3.22-bioc/R/bin/R CMD check --install=check:sincell.install-out.txt --library=/home/biocbuild/bbs-3.22-bioc/R/site-library --timings sincell_1.42.0.tar.gz StartedAt: 2025-11-17 04:17:50 -0500 (Mon, 17 Nov 2025) EndedAt: 2025-11-17 04:21:22 -0500 (Mon, 17 Nov 2025) EllapsedTime: 212.1 seconds RetCode: 0 Status: OK CheckDir: sincell.Rcheck Warnings: 0