Package: simplifyEnrichment Version: 2.3.0 Command: rm -rf simplifyEnrichment.buildbin-libdir && mkdir simplifyEnrichment.buildbin-libdir && F:\biocbuild\bbs-3.22-bioc\R\bin\R.exe CMD INSTALL --build --library=simplifyEnrichment.buildbin-libdir simplifyEnrichment_2.3.0.tar.gz StartedAt: 2025-08-15 11:20:41 -0400 (Fri, 15 Aug 2025) EndedAt: 2025-08-15 11:23:06 -0400 (Fri, 15 Aug 2025) EllapsedTime: 145.1 seconds RetCode: 0 Status: OK PackageFile: simplifyEnrichment_2.3.0.zip PackageFileSize: 1.528 MiB