Package: simona Version: 1.7.1 Command: /home/biocbuild/bbs-3.22-bioc/R/bin/R CMD INSTALL simona StartedAt: 2025-10-21 15:17:15 -0400 (Tue, 21 Oct 2025) EndedAt: 2025-10-21 15:18:29 -0400 (Tue, 21 Oct 2025) EllapsedTime: 74.3 seconds RetCode: 0 Status: OK