Package: simona Version: 1.7.1 Command: /home/biocbuild/bbs-3.22-bioc/R/bin/R CMD build --keep-empty-dirs --no-resave-data --md5 simona StartedAt: 2025-10-21 20:06:24 -0400 (Tue, 21 Oct 2025) EndedAt: 2025-10-21 20:07:41 -0400 (Tue, 21 Oct 2025) EllapsedTime: 77.1 seconds RetCode: 0 Status: OK PackageFile: simona_1.7.1.tar.gz PackageFileSize: 948.9 KiB