Package: simona Version: 1.7.1 Command: /Library/Frameworks/R.framework/Resources/bin/R CMD INSTALL simona StartedAt: 2025-10-23 15:07:57 -0400 (Thu, 23 Oct 2025) EndedAt: 2025-10-23 15:08:18 -0400 (Thu, 23 Oct 2025) EllapsedTime: 21.4 seconds RetCode: 0 Status: OK