Package: simona Version: 1.7.1 Command: rm -rf simona.buildbin-libdir && mkdir simona.buildbin-libdir && /Users/biocbuild/BBS/utils/build-universal.sh simona_1.7.1.tar.gz /Library/Frameworks/R.framework/Resources/bin/R simona.buildbin-libdir StartedAt: 2025-10-23 23:27:27 -0400 (Thu, 23 Oct 2025) EndedAt: 2025-10-23 23:27:53 -0400 (Thu, 23 Oct 2025) EllapsedTime: 25.5 seconds RetCode: 0 Status: OK PackageFile: simona_1.7.1.tgz PackageFileSize: 1.927 MiB