Package: similaRpeak Version: 1.41.0 Command: rm -rf similaRpeak.buildbin-libdir && mkdir similaRpeak.buildbin-libdir && F:\biocbuild\bbs-3.22-bioc\R\bin\R.exe CMD INSTALL --build --library=similaRpeak.buildbin-libdir similaRpeak_1.41.0.tar.gz StartedAt: 2025-08-15 11:20:28 -0400 (Fri, 15 Aug 2025) EndedAt: 2025-08-15 11:20:54 -0400 (Fri, 15 Aug 2025) EllapsedTime: 25.8 seconds RetCode: 0 Status: OK PackageFile: similaRpeak_1.41.0.zip PackageFileSize: 1.073 MiB