Package: simPIC Version: 1.6.0 Command: /home/biocbuild/bbs-3.22-bioc/R/bin/R CMD INSTALL simPIC StartedAt: 2025-11-17 17:34:38 -0500 (Mon, 17 Nov 2025) EndedAt: 2025-11-17 17:35:06 -0500 (Mon, 17 Nov 2025) EllapsedTime: 27.6 seconds RetCode: 0 Status: OK