Package: simPIC Version: 1.6.0 Command: /home/biocbuild/bbs-3.22-bioc/R/bin/R CMD build --keep-empty-dirs --no-resave-data --md5 simPIC StartedAt: 2025-11-17 23:32:19 -0500 (Mon, 17 Nov 2025) EndedAt: 2025-11-17 23:34:37 -0500 (Mon, 17 Nov 2025) EllapsedTime: 138.1 seconds RetCode: 0 Status: OK PackageFile: simPIC_1.6.0.tar.gz PackageFileSize: 5.219 MiB