Package: sigsquared Version: 1.42.0 Command: /home/biocbuild/bbs-3.22-bioc/R/bin/R CMD check --install=check:sigsquared.install-out.txt --library=/home/biocbuild/bbs-3.22-bioc/R/site-library --timings sigsquared_1.42.0.tar.gz StartedAt: 2025-11-18 08:36:07 -0500 (Tue, 18 Nov 2025) EndedAt: 2025-11-18 08:37:22 -0500 (Tue, 18 Nov 2025) EllapsedTime: 75.1 seconds RetCode: 0 Status: OK CheckDir: sigsquared.Rcheck Warnings: 0