Package: sigsquared Version: 1.42.0 Command: /Library/Frameworks/R.framework/Resources/bin/R CMD INSTALL sigsquared StartedAt: 2025-11-10 15:07:36 -0500 (Mon, 10 Nov 2025) EndedAt: 2025-11-10 15:07:40 -0500 (Mon, 10 Nov 2025) EllapsedTime: 3.6 seconds RetCode: 0 Status: OK