Package: sigsquared Version: 1.42.0 Command: /Library/Frameworks/R.framework/Resources/bin/R CMD check --install=check:sigsquared.install-out.txt --library=/Library/Frameworks/R.framework/Resources/library --no-vignettes --timings sigsquared_1.42.0.tar.gz StartedAt: 2025-11-10 22:23:26 -0500 (Mon, 10 Nov 2025) EndedAt: 2025-11-10 22:23:50 -0500 (Mon, 10 Nov 2025) EllapsedTime: 24.3 seconds RetCode: 0 Status: OK CheckDir: sigsquared.Rcheck Warnings: 0