Package: sigsquared Version: 1.42.0 Command: /Library/Frameworks/R.framework/Resources/bin/R CMD build --keep-empty-dirs --no-resave-data sigsquared StartedAt: 2025-11-10 17:46:00 -0500 (Mon, 10 Nov 2025) EndedAt: 2025-11-10 17:46:10 -0500 (Mon, 10 Nov 2025) EllapsedTime: 10.1 seconds RetCode: 0 Status: OK PackageFile: sigsquared_1.42.0.tar.gz PackageFileSize: 441.6 KiB